BEGIN:VCALENDAR
VERSION:2.0
PRODID:-//20 Deep Winery - ECPv6.15.14//NONSGML v1.0//EN
CALSCALE:GREGORIAN
METHOD:PUBLISH
X-ORIGINAL-URL:https://www.20deep.com
X-WR-CALDESC:Events for 20 Deep Winery
REFRESH-INTERVAL;VALUE=DURATION:PT1H
X-Robots-Tag:noindex
X-PUBLISHED-TTL:PT1H
BEGIN:VTIMEZONE
TZID:America/New_York
BEGIN:DAYLIGHT
TZOFFSETFROM:-0500
TZOFFSETTO:-0400
TZNAME:EDT
DTSTART:20240310T070000
END:DAYLIGHT
BEGIN:STANDARD
TZOFFSETFROM:-0400
TZOFFSETTO:-0500
TZNAME:EST
DTSTART:20241103T060000
END:STANDARD
BEGIN:DAYLIGHT
TZOFFSETFROM:-0500
TZOFFSETTO:-0400
TZNAME:EDT
DTSTART:20250309T070000
END:DAYLIGHT
BEGIN:STANDARD
TZOFFSETFROM:-0400
TZOFFSETTO:-0500
TZNAME:EST
DTSTART:20251102T060000
END:STANDARD
BEGIN:DAYLIGHT
TZOFFSETFROM:-0500
TZOFFSETTO:-0400
TZNAME:EDT
DTSTART:20260308T070000
END:DAYLIGHT
BEGIN:STANDARD
TZOFFSETFROM:-0400
TZOFFSETTO:-0500
TZNAME:EST
DTSTART:20261101T060000
END:STANDARD
BEGIN:DAYLIGHT
TZOFFSETFROM:-0500
TZOFFSETTO:-0400
TZNAME:EDT
DTSTART:20270314T070000
END:DAYLIGHT
BEGIN:STANDARD
TZOFFSETFROM:-0400
TZOFFSETTO:-0500
TZNAME:EST
DTSTART:20271107T060000
END:STANDARD
END:VTIMEZONE
BEGIN:VEVENT
DTSTART;TZID=America/New_York:20260325T180000
DTEND;TZID=America/New_York:20260325T193000
DTSTAMP:20260422T025845
CREATED:20260309T203715Z
LAST-MODIFIED:20260309T203715Z
UID:10000828-1774461600-1774467000@www.20deep.com
SUMMARY:Indoor Spring Basket of Blooms at 20 Deep Winery
DESCRIPTION:Indoor Spring Basket of Blooms at 20 Deep Winery\nSpring is here. Come celebrate it with your hands in the dirt and a glass in hand. \nWe’re partnering with My Creative Gardens for a hands-on floral workshop right here at the winery. You’ll design a charming tabletop centerpiece using potted spring flowers\, bulbs\, vibrant wheatgrass\, cut pussy willow and forsythia stems\, finished with moss\, ribbon\, and a whimsical spring pick of your choosing. \nTake it home for your Easter table or give it as a gift. Either way\, it’s a lovely way to spend a Wednesday evening. \nYou’ll work with: \n\nPotted spring flowers and bulbs\nVibrant wheatgrass\nCut pussy willow and forsythia stems\nMoss\, ribbon\, and a spring pick of your choice\n\nFeel free to bring a lightweight pair of gardening gloves if you’d like. \nDetails: \n\nDate: Wednesday\, March 25\, 2026\nTime: 6:00 PM – 7:30 PM\nLocation: 20 Deep Winery\, 187 Mendon Ionia Rd\, Honeoye Falls\, NY 14472\nPrice: $64.00 per person\nInstructor: My Creative Gardens\n\nSpace is limited. Tickets required. \nGet Tickets at My Creative Gardens
URL:https://www.20deep.com/event/indoor-spring-basket-of-blooms-at-20-deep-winery/
LOCATION:20 Deep Winery\, 187 Mendon Ionia Road\, Honeoye Falls\, NY\, 14472\, United States
CATEGORIES:Public
ATTACH;FMTTYPE=image/jpeg:https://www.20deep.com/wp-content/uploads/2026/03/Indoor-Spring-Basket-of-Blooms-at-20-Deep-Winery.jpg
ORGANIZER;CN="Creative Gardens":MAILTO:jamie@mycreativegardens.com
END:VEVENT
BEGIN:VEVENT
DTSTART;TZID=America/New_York:20251210T180000
DTEND;TZID=America/New_York:20251210T200000
DTSTAMP:20260422T025845
CREATED:20250910T194400Z
LAST-MODIFIED:20251027T202621Z
UID:10000389-1765389600-1765396800@www.20deep.com
SUMMARY:Grapevine Holiday Wreath Workshop
DESCRIPTION:Holiday Wreath Workshop at 20 Deep Winery\n\n\n\n\n\nJoin us for a festive evening of creativity and wine at 20 Deep Winery on Wednesday\, December 10\, from 6–8 PM. In partnership with My Creative Gardens\, you’ll craft a beautiful 22–24″ holiday wreath using a fresh noble fir base adorned with seasonal greens including boxwood\, cedar\, and pine. \nPersonalize your creation with an array of festive touches—pinecones\, berries\, seasonal foliage\, and colorful ribbons—to design a wreath that perfectly reflects your style. \nWhat to Bring: \n\nGloves for handling greenery\nPruners (if you have them)\nA photo of your front door for design inspiration\n\nWhat’s Included: All crafting materials and a coupon for 10% any to-go bottle of wine. \nSOLD OUT!\nGet Tickets
URL:https://www.20deep.com/event/grapevine-holiday-wreath-workshop/
LOCATION:20 Deep Winery\, 187 Mendon Ionia Road\, Honeoye Falls\, NY\, 14472\, United States
CATEGORIES:Public
ATTACH;FMTTYPE=image/jpeg:https://www.20deep.com/wp-content/uploads/2025/09/Holiday-Wreath-Work-Shop-at-20-Deep-Winery.jpg
ORGANIZER;CN="Creative Gardens":MAILTO:jamie@mycreativegardens.com
END:VEVENT
END:VCALENDAR