BEGIN:VCALENDAR
VERSION:2.0
PRODID:-//20 Deep Winery - ECPv6.15.14//NONSGML v1.0//EN
CALSCALE:GREGORIAN
METHOD:PUBLISH
X-ORIGINAL-URL:https://www.20deep.com
X-WR-CALDESC:Events for 20 Deep Winery
REFRESH-INTERVAL;VALUE=DURATION:PT1H
X-Robots-Tag:noindex
X-PUBLISHED-TTL:PT1H
BEGIN:VTIMEZONE
TZID:America/New_York
BEGIN:DAYLIGHT
TZOFFSETFROM:-0500
TZOFFSETTO:-0400
TZNAME:EDT
DTSTART:20250309T070000
END:DAYLIGHT
BEGIN:STANDARD
TZOFFSETFROM:-0400
TZOFFSETTO:-0500
TZNAME:EST
DTSTART:20251102T060000
END:STANDARD
BEGIN:DAYLIGHT
TZOFFSETFROM:-0500
TZOFFSETTO:-0400
TZNAME:EDT
DTSTART:20260308T070000
END:DAYLIGHT
BEGIN:STANDARD
TZOFFSETFROM:-0400
TZOFFSETTO:-0500
TZNAME:EST
DTSTART:20261101T060000
END:STANDARD
BEGIN:DAYLIGHT
TZOFFSETFROM:-0500
TZOFFSETTO:-0400
TZNAME:EDT
DTSTART:20270314T070000
END:DAYLIGHT
BEGIN:STANDARD
TZOFFSETFROM:-0400
TZOFFSETTO:-0500
TZNAME:EST
DTSTART:20271107T060000
END:STANDARD
END:VTIMEZONE
BEGIN:VEVENT
DTSTART;TZID=America/New_York:20260214T180000
DTEND;TZID=America/New_York:20260214T210000
DTSTAMP:20260421T181527
CREATED:20260120T174938Z
LAST-MODIFIED:20260210T221130Z
UID:10000815-1771092000-1771102800@www.20deep.com
SUMMARY:DINNER IN THE VINEYARD SERIES Winter Edition: The Winemaker's Den
DESCRIPTION:DINNER IN THE VINEYARD SERIES\nWinter Edition: The Winemaker’s Den\nThis event has been cancelled. \nWe were looking forward to hosting this dinner on February 14th\, but unfortunately we’ve had to cancel. If you’ve already purchased tickets\, you’ll receive a full refund. If you have any questions\, please reach out to Kristy at 585-204-7953 or Kristy@20Deep.com.\nWe’re planning to bring back the Dinner in the Vineyard series later this year. Stay tuned. \n\nAbout the Dinner in the Vineyard Series\nDinner in the Vineyard is something we do two to three times a year at 20 Deep Winery. It’s an opportunity for us to collaborate with local chefs and bring their food to a small group of guests in a setting you can’t find anywhere else. If you’re a chef and interested in collaborating with us\, we’d love to hear from you. Call/Text 585-204-7953 or email Kristy@20Deep.com.
URL:https://www.20deep.com/event/dinner-in-the-vineyard-series-winter-edition-the-winemakers-den/
LOCATION:20 Deep Winery\, 187 Mendon Ionia Road\, Honeoye Falls\, NY\, 14472\, United States
CATEGORIES:Public
ATTACH;FMTTYPE=image/jpeg:https://www.20deep.com/wp-content/uploads/2026/01/Valentines-Day-DInner-at-20-Deep-Winery.jpg
END:VEVENT
END:VCALENDAR