BEGIN:VCALENDAR
VERSION:2.0
PRODID:-//20 Deep Winery - ECPv6.15.14//NONSGML v1.0//EN
CALSCALE:GREGORIAN
METHOD:PUBLISH
X-WR-CALNAME:20 Deep Winery
X-ORIGINAL-URL:https://www.20deep.com
X-WR-CALDESC:Events for 20 Deep Winery
REFRESH-INTERVAL;VALUE=DURATION:PT1H
X-Robots-Tag:noindex
X-PUBLISHED-TTL:PT1H
BEGIN:VTIMEZONE
TZID:America/New_York
BEGIN:DAYLIGHT
TZOFFSETFROM:-0500
TZOFFSETTO:-0400
TZNAME:EDT
DTSTART:20250309T070000
END:DAYLIGHT
BEGIN:STANDARD
TZOFFSETFROM:-0400
TZOFFSETTO:-0500
TZNAME:EST
DTSTART:20251102T060000
END:STANDARD
BEGIN:DAYLIGHT
TZOFFSETFROM:-0500
TZOFFSETTO:-0400
TZNAME:EDT
DTSTART:20260308T070000
END:DAYLIGHT
BEGIN:STANDARD
TZOFFSETFROM:-0400
TZOFFSETTO:-0500
TZNAME:EST
DTSTART:20261101T060000
END:STANDARD
BEGIN:DAYLIGHT
TZOFFSETFROM:-0500
TZOFFSETTO:-0400
TZNAME:EDT
DTSTART:20270314T070000
END:DAYLIGHT
BEGIN:STANDARD
TZOFFSETFROM:-0400
TZOFFSETTO:-0500
TZNAME:EST
DTSTART:20271107T060000
END:STANDARD
END:VTIMEZONE
BEGIN:VEVENT
DTSTART;TZID=America/New_York:20260416T180000
DTEND;TZID=America/New_York:20260416T193000
DTSTAMP:20260424T155803
CREATED:20260309T194922Z
LAST-MODIFIED:20260309T194922Z
UID:10000827-1776362400-1776367800@www.20deep.com
SUMMARY:Bonsai Workshop with Gallea's
DESCRIPTION:Bonsai Workshop with Gallea’s\nSlow down\, get your hands dirty\, and leave with something living. \nJoin us for a beginner-friendly Bonsai workshop led by the team at Gallea’s Tropical Greenhouse and Florist in Pittsford. This relaxing hands-on evening is a chance to unplug\, learn something new\, and enjoy a glass of wine while you work. \nYou’ll learn how to: \n\nPlant\, shape\, and care for your own Bonsai tree\nUnderstand the basics of the Japanese art of Bonsai\nTake your tree home with you at the end of the night\n\nNo experience needed. Just show up\, grab a glass\, and give it a try. \nDetails: \n\nDate: Thursday\, April 16\, 2026\nTime: 6:00 PM – 7:30 PM\nLocation: 20 Deep Winery\, Mendon\, NY\nPrice: $65 per person\nInstructor: Gallea’s Tropical Greenhouse and Florist\, Pittsford\, NY\n\nSpace is limited. Tickets required. \n  \n\n\nBonsai Workshop with Gallea’s \n$65.00 \nBuy now
URL:https://www.20deep.com/event/bonsai-workshop-with-galleas/
LOCATION:20 Deep Winery\, 187 Mendon Ionia Road\, Honeoye Falls\, NY\, 14472\, United States
CATEGORIES:Public
ATTACH;FMTTYPE=image/jpeg:https://www.20deep.com/wp-content/uploads/2026/03/Bonsai-Workshop-with-Galleas-at-20-Deep-Winery.jpg
ORGANIZER;CN="Gallea's Tropical Greenhouse and Florist":MAILTO:ljhara73@gmail.com
END:VEVENT
END:VCALENDAR