BEGIN:VCALENDAR
VERSION:2.0
PRODID:-//20 Deep Winery - ECPv6.15.14//NONSGML v1.0//EN
CALSCALE:GREGORIAN
METHOD:PUBLISH
X-ORIGINAL-URL:https://www.20deep.com
X-WR-CALDESC:Events for 20 Deep Winery
REFRESH-INTERVAL;VALUE=DURATION:PT1H
X-Robots-Tag:noindex
X-PUBLISHED-TTL:PT1H
BEGIN:VTIMEZONE
TZID:America/New_York
BEGIN:DAYLIGHT
TZOFFSETFROM:-0500
TZOFFSETTO:-0400
TZNAME:EDT
DTSTART:20230312T070000
END:DAYLIGHT
BEGIN:STANDARD
TZOFFSETFROM:-0400
TZOFFSETTO:-0500
TZNAME:EST
DTSTART:20231105T060000
END:STANDARD
BEGIN:DAYLIGHT
TZOFFSETFROM:-0500
TZOFFSETTO:-0400
TZNAME:EDT
DTSTART:20240310T070000
END:DAYLIGHT
BEGIN:STANDARD
TZOFFSETFROM:-0400
TZOFFSETTO:-0500
TZNAME:EST
DTSTART:20241103T060000
END:STANDARD
BEGIN:DAYLIGHT
TZOFFSETFROM:-0500
TZOFFSETTO:-0400
TZNAME:EDT
DTSTART:20250309T070000
END:DAYLIGHT
BEGIN:STANDARD
TZOFFSETFROM:-0400
TZOFFSETTO:-0500
TZNAME:EST
DTSTART:20251102T060000
END:STANDARD
END:VTIMEZONE
BEGIN:VEVENT
DTSTART;TZID=America/New_York:20240408T130000
DTEND;TZID=America/New_York:20240408T170000
DTSTAMP:20260425T061945
CREATED:20240208T032457Z
LAST-MODIFIED:20240325T204829Z
UID:10000014-1712581200-1712595600@www.20deep.com
SUMMARY:HFM Rotary Solar Eclipse Family Fun Event at 20 Deep Winery
DESCRIPTION:The Honeoye Falls – Mendon Rotary Club will be hosting the celestial event of the century at 20 Deep Winery! 🍷 Join the Rotary of Honeoye Falls – Mendon for an unforgettable Total Solar Eclipse Viewing Party on April 8th from 1pm to 5pm. \nGet ready to witness the awe-inspiring spectacle of a total solar eclipse from the perfect vantage point directly in the path of totality. \nSponsored by Chip Raines\, and State Farm Insurance\, this family-friendly event has something for everyone. Enjoy hayrides\, crafts\, a bounce house\, yard games\, and live music by the talented HFL Jazz Group. Indulge your taste buds with delicious fare from Main Street Cafe and The Normal. \nTickets are just $20 for adults\, and kids get in free! Each ticket includes eclipse glasses and a commemorative cup to remember this extraordinary experience. \n  \nFor more information please visit: https://hfmrotary.org/event/eclipse-at-20-deep-winery-1/ \n  \nHave a question about this event?  Please Contact Lauri Hoffmann with the HFM Rotary. \n  \nTHIS IS AN OUTDOOR EVENT SO PLEASE DRESS ACCORDINGLY \n  \nBuy Tickets
URL:https://www.20deep.com/event/total-solar-eclipse-viewing-party-at-20-deep-winery/
LOCATION:20 Deep Winery\, 187 Mendon Ionia Road\, Honeoye Falls\, NY\, 14472\, United States
CATEGORIES:Public
ATTACH;FMTTYPE=image/jpeg:https://www.20deep.com/wp-content/uploads/2024/02/HFM-Rotary-Solar-Eclipse-Party.jpg
END:VEVENT
END:VCALENDAR