BEGIN:VCALENDAR
VERSION:2.0
PRODID:-//20 Deep Winery - ECPv6.15.14//NONSGML v1.0//EN
CALSCALE:GREGORIAN
METHOD:PUBLISH
X-ORIGINAL-URL:https://www.20deep.com
X-WR-CALDESC:Events for 20 Deep Winery
REFRESH-INTERVAL;VALUE=DURATION:PT1H
X-Robots-Tag:noindex
X-PUBLISHED-TTL:PT1H
BEGIN:VTIMEZONE
TZID:America/New_York
BEGIN:DAYLIGHT
TZOFFSETFROM:-0500
TZOFFSETTO:-0400
TZNAME:EDT
DTSTART:20240310T070000
END:DAYLIGHT
BEGIN:STANDARD
TZOFFSETFROM:-0400
TZOFFSETTO:-0500
TZNAME:EST
DTSTART:20241103T060000
END:STANDARD
BEGIN:DAYLIGHT
TZOFFSETFROM:-0500
TZOFFSETTO:-0400
TZNAME:EDT
DTSTART:20250309T070000
END:DAYLIGHT
BEGIN:STANDARD
TZOFFSETFROM:-0400
TZOFFSETTO:-0500
TZNAME:EST
DTSTART:20251102T060000
END:STANDARD
BEGIN:DAYLIGHT
TZOFFSETFROM:-0500
TZOFFSETTO:-0400
TZNAME:EDT
DTSTART:20260308T070000
END:DAYLIGHT
BEGIN:STANDARD
TZOFFSETFROM:-0400
TZOFFSETTO:-0500
TZNAME:EST
DTSTART:20261101T060000
END:STANDARD
END:VTIMEZONE
BEGIN:VEVENT
DTSTART;TZID=America/New_York:20251214T110000
DTEND;TZID=America/New_York:20251214T160000
DTSTAMP:20260422T154119
CREATED:20250730T130444Z
LAST-MODIFIED:20251210T141255Z
UID:10000409-1765710000-1765728000@www.20deep.com
SUMMARY:Photos with Santa at 20 Deep Winery
DESCRIPTION:Photos with Santa at 20 Deep Winery\nBring the family for professional photos with Santa in our beautifully decorated winery\, complete with twinkling lights and festive holiday magic. \nEvent Details\n\nDates: Saturday\, December 13th & Sunday\, December 14th\, 2025\nSessions: 11am–3pm both days\nCost: $67.50 per family (up to 6 people)\nDuration: 10 minutes with Santa\nLimited: 6 families per hour—register early!\n\nWhat’s Included with Your Ticket:\n\nProfessional photography session with Santa\n5 high-resolution digital images\nPhotos delivered within 24 hours\nComplimentary hot chocolate for kids\nComplimentary sugar cookie & royal icing decorating station\n\nNo Ticket? No Problem.\nYou’re welcome to stop by the winery and enjoy the weekend without a Santa session. Grab some pizza from Freddie’s\, decorate cookies\, sip hot cocoa with the kids\, or just hang out and soak in the holiday vibes. Tickets are only required for the professional photo session with Santa. \nWhile You’re Here:\n\nHoliday Wine Specials: Mulled wine\, cranberry sangria\, and more\nFood: Freddie’s wood-fired pizza & grazing boards (available for purchase)\nGift Shop: Wine gift sets & gift cards for holiday shopping\n\nBook Your Santa Session Today!\nLimited to 36 families per day. \n  \n\n    \n  \n      Photos with Santa - Saturday December 13 \n      $67.50 \n    Buy now\n  \n\n  \n\n    \n  \n      Photos with Santa - Sunday Dec 14th \n      $67.50 \n    Buy now\n  \n\n 
URL:https://www.20deep.com/event/photos-with-santa-at-20-deep-winery/2025-12-14/
LOCATION:20 Deep Winery\, 187 Mendon Ionia Road\, Honeoye Falls\, NY\, 14472\, United States
CATEGORIES:Public
ATTACH;FMTTYPE=image/jpeg:https://www.20deep.com/wp-content/uploads/2025/07/Holiday-Photos-with-Santa.jpg
ORGANIZER;CN="Launch Creative Studio":MAILTO:contact@launchcreative.studio
END:VEVENT
BEGIN:VEVENT
DTSTART;TZID=America/New_York:20251213T110000
DTEND;TZID=America/New_York:20251213T160000
DTSTAMP:20260422T154119
CREATED:20250730T130444Z
LAST-MODIFIED:20251210T141255Z
UID:10000301-1765623600-1765641600@www.20deep.com
SUMMARY:Photos with Santa at 20 Deep Winery
DESCRIPTION:Photos with Santa at 20 Deep Winery\nBring the family for professional photos with Santa in our beautifully decorated winery\, complete with twinkling lights and festive holiday magic. \nEvent Details\n\nDates: Saturday\, December 13th & Sunday\, December 14th\, 2025\nSessions: 11am–3pm both days\nCost: $67.50 per family (up to 6 people)\nDuration: 10 minutes with Santa\nLimited: 6 families per hour—register early!\n\nWhat’s Included with Your Ticket:\n\nProfessional photography session with Santa\n5 high-resolution digital images\nPhotos delivered within 24 hours\nComplimentary hot chocolate for kids\nComplimentary sugar cookie & royal icing decorating station\n\nNo Ticket? No Problem.\nYou’re welcome to stop by the winery and enjoy the weekend without a Santa session. Grab some pizza from Freddie’s\, decorate cookies\, sip hot cocoa with the kids\, or just hang out and soak in the holiday vibes. Tickets are only required for the professional photo session with Santa. \nWhile You’re Here:\n\nHoliday Wine Specials: Mulled wine\, cranberry sangria\, and more\nFood: Freddie’s wood-fired pizza & grazing boards (available for purchase)\nGift Shop: Wine gift sets & gift cards for holiday shopping\n\nBook Your Santa Session Today!\nLimited to 36 families per day. \n  \n\n    \n  \n      Photos with Santa - Saturday December 13 \n      $67.50 \n    Buy now\n  \n\n  \n\n    \n  \n      Photos with Santa - Sunday Dec 14th \n      $67.50 \n    Buy now\n  \n\n 
URL:https://www.20deep.com/event/photos-with-santa-at-20-deep-winery/2025-12-13/
LOCATION:20 Deep Winery\, 187 Mendon Ionia Road\, Honeoye Falls\, NY\, 14472\, United States
CATEGORIES:Public
ATTACH;FMTTYPE=image/jpeg:https://www.20deep.com/wp-content/uploads/2025/07/Holiday-Photos-with-Santa.jpg
ORGANIZER;CN="Launch Creative Studio":MAILTO:contact@launchcreative.studio
END:VEVENT
END:VCALENDAR