BEGIN:VCALENDAR
VERSION:2.0
PRODID:-//20 Deep Winery - ECPv6.15.14//NONSGML v1.0//EN
CALSCALE:GREGORIAN
METHOD:PUBLISH
X-WR-CALNAME:20 Deep Winery
X-ORIGINAL-URL:https://www.20deep.com
X-WR-CALDESC:Events for 20 Deep Winery
REFRESH-INTERVAL;VALUE=DURATION:PT1H
X-Robots-Tag:noindex
X-PUBLISHED-TTL:PT1H
BEGIN:VTIMEZONE
TZID:America/New_York
BEGIN:DAYLIGHT
TZOFFSETFROM:-0500
TZOFFSETTO:-0400
TZNAME:EDT
DTSTART:20240310T070000
END:DAYLIGHT
BEGIN:STANDARD
TZOFFSETFROM:-0400
TZOFFSETTO:-0500
TZNAME:EST
DTSTART:20241103T060000
END:STANDARD
BEGIN:DAYLIGHT
TZOFFSETFROM:-0500
TZOFFSETTO:-0400
TZNAME:EDT
DTSTART:20250309T070000
END:DAYLIGHT
BEGIN:STANDARD
TZOFFSETFROM:-0400
TZOFFSETTO:-0500
TZNAME:EST
DTSTART:20251102T060000
END:STANDARD
BEGIN:DAYLIGHT
TZOFFSETFROM:-0500
TZOFFSETTO:-0400
TZNAME:EDT
DTSTART:20260308T070000
END:DAYLIGHT
BEGIN:STANDARD
TZOFFSETFROM:-0400
TZOFFSETTO:-0500
TZNAME:EST
DTSTART:20261101T060000
END:STANDARD
END:VTIMEZONE
BEGIN:VEVENT
DTSTART;TZID=America/New_York:20251123T110000
DTEND;TZID=America/New_York:20251123T190000
DTSTAMP:20260424T182120
CREATED:20251105T174103Z
LAST-MODIFIED:20251105T174103Z
UID:10000408-1763895600-1763924400@www.20deep.com
SUMMARY:Holiday Photo Sessions at 20 Deep
DESCRIPTION:Holiday Photo Sessions at 20 Deep\nSunday\, November 23 | 11am-7pm \nCapture your holiday magic at the winery!\nSkip the mall photo chaos. We’re transforming our Winemakers’ Room into a cozy\, festive photo studio perfect for your holiday cards\, gifts and family keepsakes. \nProfessional photographer Launch Creative Studios will capture your crew against our beautifully staged holiday set—think warm lights\, seasonal décor\, and that special 20 Deep charm. Parents can relax with a glass of wine while the kids get photo-ready. \nWhat’s Included ($150):\n\n15-minute professional photo session\nExpert photographer + assistant to get everyone’s good side\n5 professionally edited\, high-resolution images\nDigital delivery by November 29 (perfect timing for holiday cards!)\nAccess to our tasting room before or after your session\n\nPerfect for:\n\nHoliday cards that’ll actually make it to the fridge\nGifts for grandparents\nFinally getting everyone in the same photo\nUpdating that family portrait from 2019\n\nBook Your Time Slot: Spots are limited and filling fast. Reserve your 15-minute session directly through our photographer: \n  \nBOOK YOUR SESSION\n  \nPro tip: Book an early slot\, then stay for lunch with Freddie’s pizza and a glass of wine to celebrate surviving a family photo.
URL:https://www.20deep.com/event/holiday-photo-sessions-at-20-deep/
LOCATION:20 Deep Winery\, 187 Mendon Ionia Road\, Honeoye Falls\, NY\, 14472\, United States
CATEGORIES:Public
ATTACH;FMTTYPE=image/jpeg:https://www.20deep.com/wp-content/uploads/2025/11/Holiday-Photo-Sessions-at-20-Deep-Winery.jpg
ORGANIZER;CN="Launch Creative Studio":MAILTO:contact@launchcreative.studio
END:VEVENT
END:VCALENDAR