BEGIN:VCALENDAR
VERSION:2.0
PRODID:-//20 Deep Winery - ECPv6.15.14//NONSGML v1.0//EN
CALSCALE:GREGORIAN
METHOD:PUBLISH
X-WR-CALNAME:20 Deep Winery
X-ORIGINAL-URL:https://www.20deep.com
X-WR-CALDESC:Events for 20 Deep Winery
REFRESH-INTERVAL;VALUE=DURATION:PT1H
X-Robots-Tag:noindex
X-PUBLISHED-TTL:PT1H
BEGIN:VTIMEZONE
TZID:America/New_York
BEGIN:DAYLIGHT
TZOFFSETFROM:-0500
TZOFFSETTO:-0400
TZNAME:EDT
DTSTART:20250309T070000
END:DAYLIGHT
BEGIN:STANDARD
TZOFFSETFROM:-0400
TZOFFSETTO:-0500
TZNAME:EST
DTSTART:20251102T060000
END:STANDARD
BEGIN:DAYLIGHT
TZOFFSETFROM:-0500
TZOFFSETTO:-0400
TZNAME:EDT
DTSTART:20260308T070000
END:DAYLIGHT
BEGIN:STANDARD
TZOFFSETFROM:-0400
TZOFFSETTO:-0500
TZNAME:EST
DTSTART:20261101T060000
END:STANDARD
BEGIN:DAYLIGHT
TZOFFSETFROM:-0500
TZOFFSETTO:-0400
TZNAME:EDT
DTSTART:20270314T070000
END:DAYLIGHT
BEGIN:STANDARD
TZOFFSETFROM:-0400
TZOFFSETTO:-0500
TZNAME:EST
DTSTART:20271107T060000
END:STANDARD
END:VTIMEZONE
BEGIN:VEVENT
DTSTART;TZID=America/New_York:20260213T190000
DTEND;TZID=America/New_York:20260213T210000
DTSTAMP:20260421T181229
CREATED:20260128T114450Z
LAST-MODIFIED:20260128T114450Z
UID:10000816-1771009200-1771016400@www.20deep.com
SUMMARY:Valentine Date n' Paint
DESCRIPTION:Valentine Date n’ Paint\nWe’re teaming up with Lesley from Color Carries Hope for a paint night the day before Valentine’s Day. No experience needed. You’ll get step-by-step guidance to create a piece you can actually hang on your wall when you get home. \nShow up early\, grab a glass of wine\, and settle in. We’ll have live music and a food truck on site to round out the evening. \nThe Details\n\nDate: Friday\, February 13th\nTime: 7:00 PM – 9:00 PM\nLocation: 20 Deep Winery\, Honeoye Falls\nPrice: $55.20 per person\n\nWhether you’ve painted a hundred times or haven’t picked up a brush since grade school\, you’ll walk out with something worth keeping. \n[Get Tickets]
URL:https://www.20deep.com/event/valentine-date-n-paint/
LOCATION:20 Deep Winery\, 187 Mendon Ionia Road\, Honeoye Falls\, NY\, 14472\, United States
ORGANIZER;CN="Lesley Shakespeare":MAILTO:Lesley@colorcarrieshope.com
END:VEVENT
END:VCALENDAR