BEGIN:VCALENDAR
VERSION:2.0
PRODID:-//20 Deep Winery - ECPv6.15.14//NONSGML v1.0//EN
CALSCALE:GREGORIAN
METHOD:PUBLISH
X-WR-CALNAME:20 Deep Winery
X-ORIGINAL-URL:https://www.20deep.com
X-WR-CALDESC:Events for 20 Deep Winery
REFRESH-INTERVAL;VALUE=DURATION:PT1H
X-Robots-Tag:noindex
X-PUBLISHED-TTL:PT1H
BEGIN:VTIMEZONE
TZID:America/New_York
BEGIN:DAYLIGHT
TZOFFSETFROM:-0500
TZOFFSETTO:-0400
TZNAME:EDT
DTSTART:20240310T070000
END:DAYLIGHT
BEGIN:STANDARD
TZOFFSETFROM:-0400
TZOFFSETTO:-0500
TZNAME:EST
DTSTART:20241103T060000
END:STANDARD
BEGIN:DAYLIGHT
TZOFFSETFROM:-0500
TZOFFSETTO:-0400
TZNAME:EDT
DTSTART:20250309T070000
END:DAYLIGHT
BEGIN:STANDARD
TZOFFSETFROM:-0400
TZOFFSETTO:-0500
TZNAME:EST
DTSTART:20251102T060000
END:STANDARD
BEGIN:DAYLIGHT
TZOFFSETFROM:-0500
TZOFFSETTO:-0400
TZNAME:EDT
DTSTART:20260308T070000
END:DAYLIGHT
BEGIN:STANDARD
TZOFFSETFROM:-0400
TZOFFSETTO:-0500
TZNAME:EST
DTSTART:20261101T060000
END:STANDARD
END:VTIMEZONE
BEGIN:VEVENT
DTSTART;TZID=America/New_York:20250712T110000
DTEND;TZID=America/New_York:20250712T210000
DTSTAMP:20260424T225836
CREATED:20250708T190009Z
LAST-MODIFIED:20250708T193028Z
UID:10000286-1752318000-1752354000@www.20deep.com
SUMMARY:Live Music & Food Truck Night
DESCRIPTION:Live Music & Food Truck Night – Saturday July 12\nRelax on the patio with an evening of live music and gourmet hot dogs. \n\nTime: Winery – 11AM – 9 PM / Food truck 5PM – 8 PM / Music 6PM – 8 PM\nMusic: A high-energy pop/rock duo\nFood: Reservoir Dogz serving specialty dogs & sides\n\nWhat to Expect\n\nPatio seating and lawn space—bring a chair or blanket\nFull wine list\, local craft beer\, and non-alcoholic pours by the glass\nFamily-friendly atmosphere with lawn games\nNo cover—wine\, tastings\, and food priced à la carte\n\nCome early for dinner\, stay for the music\, and enjoy a summer night among the vines.
URL:https://www.20deep.com/event/live-music-food-truck-night/
LOCATION:20 Deep Winery\, 187 Mendon Ionia Road\, Honeoye Falls\, NY\, 14472\, United States
CATEGORIES:Public
ATTACH;FMTTYPE=image/jpeg:https://www.20deep.com/wp-content/uploads/2025/07/LIVE-MUSIC-AND-FOOD-TRUCKS-AT-20-DEEP-WINERY.jpg
ORGANIZER;CN="Reservoir Dog'z":MAILTO:janders3414@gmail.com
END:VEVENT
END:VCALENDAR