BEGIN:VCALENDAR
VERSION:2.0
PRODID:-//20 Deep Winery - ECPv6.15.14//NONSGML v1.0//EN
CALSCALE:GREGORIAN
METHOD:PUBLISH
X-WR-CALNAME:20 Deep Winery
X-ORIGINAL-URL:https://www.20deep.com
X-WR-CALDESC:Events for 20 Deep Winery
REFRESH-INTERVAL;VALUE=DURATION:PT1H
X-Robots-Tag:noindex
X-PUBLISHED-TTL:PT1H
BEGIN:VTIMEZONE
TZID:America/New_York
BEGIN:DAYLIGHT
TZOFFSETFROM:-0500
TZOFFSETTO:-0400
TZNAME:EDT
DTSTART:20250309T070000
END:DAYLIGHT
BEGIN:STANDARD
TZOFFSETFROM:-0400
TZOFFSETTO:-0500
TZNAME:EST
DTSTART:20251102T060000
END:STANDARD
BEGIN:DAYLIGHT
TZOFFSETFROM:-0500
TZOFFSETTO:-0400
TZNAME:EDT
DTSTART:20260308T070000
END:DAYLIGHT
BEGIN:STANDARD
TZOFFSETFROM:-0400
TZOFFSETTO:-0500
TZNAME:EST
DTSTART:20261101T060000
END:STANDARD
BEGIN:DAYLIGHT
TZOFFSETFROM:-0500
TZOFFSETTO:-0400
TZNAME:EDT
DTSTART:20270314T070000
END:DAYLIGHT
BEGIN:STANDARD
TZOFFSETFROM:-0400
TZOFFSETTO:-0500
TZNAME:EST
DTSTART:20271107T060000
END:STANDARD
END:VTIMEZONE
BEGIN:VEVENT
DTSTART;TZID=America/New_York:20260122T180000
DTEND;TZID=America/New_York:20260122T210000
DTSTAMP:20260421T181229
CREATED:20260106T141423Z
LAST-MODIFIED:20260119T144618Z
UID:10000790-1769104800-1769115600@www.20deep.com
SUMMARY:Wine Glass Painting with Roc Paint Sip
DESCRIPTION:Wine Glass Painting with Roc Paint Sip\nThursday\, January 22\, 2026 | 6:00 – 9:00 PM \nGrab some friends and get creative. Roc Paint Sip is taking over the tasting room for an evening of wine glass painting—no experience needed\, just a willingness to have fun. \nPaint whatever design speaks to you\, with guidance on technique so your masterpiece actually sticks. All supplies are provided\, including the glass and acrylic sealer to finish it off. \n$17 per person \nThis one’s open to everyone\, so bring a friend\, make it a date night\, or come solo and meet some new people. \nReserve Your Spot
URL:https://www.20deep.com/event/wine-glass-painting-with-roc-paint-sip/
LOCATION:20 Deep Winery\, 187 Mendon Ionia Road\, Honeoye Falls\, NY\, 14472\, United States
CATEGORIES:Public
ATTACH;FMTTYPE=image/jpeg:https://www.20deep.com/wp-content/uploads/2026/01/20-Deep-Wine-Glass-Freepaint.jpg
ORGANIZER;CN="Roc Paint Sip":MAILTO:rocpaintsip@gmail.com
END:VEVENT
END:VCALENDAR