BEGIN:VCALENDAR
VERSION:2.0
PRODID:-//20 Deep Winery - ECPv6.15.14//NONSGML v1.0//EN
CALSCALE:GREGORIAN
METHOD:PUBLISH
X-WR-CALNAME:20 Deep Winery
X-ORIGINAL-URL:https://www.20deep.com
X-WR-CALDESC:Events for 20 Deep Winery
REFRESH-INTERVAL;VALUE=DURATION:PT1H
X-Robots-Tag:noindex
X-PUBLISHED-TTL:PT1H
BEGIN:VTIMEZONE
TZID:America/New_York
BEGIN:DAYLIGHT
TZOFFSETFROM:-0500
TZOFFSETTO:-0400
TZNAME:EDT
DTSTART:20240310T070000
END:DAYLIGHT
BEGIN:STANDARD
TZOFFSETFROM:-0400
TZOFFSETTO:-0500
TZNAME:EST
DTSTART:20241103T060000
END:STANDARD
BEGIN:DAYLIGHT
TZOFFSETFROM:-0500
TZOFFSETTO:-0400
TZNAME:EDT
DTSTART:20250309T070000
END:DAYLIGHT
BEGIN:STANDARD
TZOFFSETFROM:-0400
TZOFFSETTO:-0500
TZNAME:EST
DTSTART:20251102T060000
END:STANDARD
BEGIN:DAYLIGHT
TZOFFSETFROM:-0500
TZOFFSETTO:-0400
TZNAME:EDT
DTSTART:20260308T070000
END:DAYLIGHT
BEGIN:STANDARD
TZOFFSETFROM:-0400
TZOFFSETTO:-0500
TZNAME:EST
DTSTART:20261101T060000
END:STANDARD
END:VTIMEZONE
BEGIN:VEVENT
DTSTART;TZID=America/New_York:20251211T180000
DTEND;TZID=America/New_York:20251211T193000
DTSTAMP:20260424T184859
CREATED:20250723T185147Z
LAST-MODIFIED:20250728T155027Z
UID:10000295-1765476000-1765481400@www.20deep.com
SUMMARY:Holiday Calligraphy & Ornament Lettering Workshop with Sip & Script
DESCRIPTION:Holiday Calligraphy & Ornament Lettering Workshop with Sip & Script\nGet ready to add elegant handwritten touches to your holiday season! Join Sip & Script for a festive evening workshop where you’ll learn modern calligraphy basics and create a beautiful hand-lettered acrylic ornament to take home. \nPerfect for creating personalized gift tags\, holiday cards\, place cards\, and special hostess gifts. Whether you’re a complete beginner or need a refresher\, you’ll master the art of calligraphy using traditional pointed pen and ink\, plus leave with all the skills (and supplies!) to keep practicing at home. \nWhat’s Included: \n\n1.5 hours of hands-on instruction\nComplete beginner’s calligraphy kit to keep\nAll materials including an acrylic ornament\nTwo nibs\, black ink pot\, letter guides\, tracing paper\, and pen holder\n\nDate: Thursday\, December 11th\nTime: 6:00 – 7:30 PM\nLocation: 20 Deep Winery\nCost: $65 per person\nAges: All ages welcome (under 16 must be accompanied by a ticketed adult) \nCome early to grab a glass of wine and settle in. No experience necessary – lefties welcome! Wine\, beer\, and food available for purchase. \nLimited seats available – register today for this festive workshop! \n  \nGet Tickets
URL:https://www.20deep.com/event/holiday-calligraphy-ornament-lettering-workshop-with-sip-script/
LOCATION:20 Deep Winery\, 187 Mendon Ionia Road\, Honeoye Falls\, NY\, 14472\, United States
CATEGORIES:Public
ATTACH;FMTTYPE=image/jpeg:https://www.20deep.com/wp-content/uploads/2025/07/Holiday-Calligraphy-Ornament-Lettering-Workshop-with-Sip-Script-at-20-Deep-Winery.jpg
ORGANIZER;CN="Sip and Script":MAILTO:lisarocsipandscript@gmail.com
END:VEVENT
BEGIN:VEVENT
DTSTART;TZID=America/New_York:20251029T180000
DTEND;TZID=America/New_York:20251029T193000
DTSTAMP:20260424T184859
CREATED:20250723T184114Z
LAST-MODIFIED:20251017T131815Z
UID:10000294-1761760800-1761766200@www.20deep.com
SUMMARY:Modern Calligraphy & Pumpkin Lettering Workshop with Sip & Script
DESCRIPTION:Modern Calligraphy & Pumpkin Lettering Workshop with Sip & Script\nAdd some spooky style to your fall season! Join Sip & Script for a beginner-friendly calligraphy workshop where you’ll learn the art of beautiful lettering AND create your own hand-lettered faux pumpkin to take home. \nPerfect for DIY brides\, stationery lovers\, or anyone who wants to add that special handwritten touch to their fall decor. In this hands-on workshop\, you’ll master the basics of modern calligraphy using a pointed dip pen and ink\, then put your new skills to work decorating a faux pumpkin – ideal for your front porch\, bar cart\, or as a unique hostess gift. \nWhat’s Included: \n\n1.5 hours of instruction and demonstration\nComplete beginner’s calligraphy kit (yours to keep!)\nAll materials including a faux pumpkin\nTwo nibs\, black ink pot\, letter guides\, tracing paper\, and pen holder\n\nDate: Wednesday October 29th\nTime: 6:00 PM (come early to grab a seat and order food/drinks)\nLocation: 20 Deep Winery\nCost: $65 per person\nAges: All ages welcome (under 16 must be accompanied by a ticketed adult) \nNo experience necessary – lefties welcome! Wine\, beer\, and food available for purchase throughout the workshop. \nSpace is limited. Get your tickets today and get ready to letter! \n  \nGet Tickets
URL:https://www.20deep.com/event/modern-calligraphy-pumpkin-lettering-workshop-with-sip-script/
LOCATION:20 Deep Winery\, 187 Mendon Ionia Road\, Honeoye Falls\, NY\, 14472\, United States
CATEGORIES:Public
ATTACH;FMTTYPE=image/jpeg:https://www.20deep.com/wp-content/uploads/2025/07/Modern-Calligraphy-Pumpkin-Lettering-Workshop-with-Sip-Script.jpg
ORGANIZER;CN="Sip and Script":MAILTO:lisarocsipandscript@gmail.com
END:VEVENT
BEGIN:VEVENT
DTSTART;TZID=America/New_York:20250504T143000
DTEND;TZID=America/New_York:20250504T160000
DTSTAMP:20260424T184859
CREATED:20250121T142258Z
LAST-MODIFIED:20250302T151636Z
UID:10000162-1746369000-1746374400@www.20deep.com
SUMMARY:Mother’s Day Modern Calligraphy Workshop
DESCRIPTION:Celebrate Mother’s Day at 20 Deep Winery with this fun Calligraphy workshop! Whether you’re treating Mom\, spending quality time together\, or indulging in a creative afternoon for yourself\, this beginner-friendly workshop is perfect. \nDuring the class\, you’ll learn the basics of pointed dip pen calligraphy with hands-on instruction and demonstrations. Your class kit includes everything needed to get started: two nibs\, black ink\, tracing paper\, letter guides\, and a straight pen holder—all yours to take home! Use your new skills to create personalized cards\, elegant décor\, or meaningful keepsakes. \nDetails\n🗓 Date: Sunday May 4th 2:30p – 4:00p\n⏰ Time: Arrive early to grab your seat\, class starts promptly at 2:30 PM.\n📍 Location: 20 Deep Winery\, Mendon\, NY \nSip\, savor\, and create! Come early to enjoy food and drinks available onsite or indulge while you create. Lefties are welcome\, and no prior experience is required. If Mom or you have dabbled in calligraphy before\, this is a fun way to refresh your skills and explore new tools. \nNote: Children 16 and under are welcome with a ticketed adult. Please be mindful this is an adult-friendly environment where wine may be enjoyed. \nMake this Mother’s Day special—grab your ticket now and let’s create something beautiful together! \n  \nGet Tickets
URL:https://www.20deep.com/event/mothers-day-modern-calligraphy-workshop/
LOCATION:20 Deep Winery\, 187 Mendon Ionia Road\, Honeoye Falls\, NY\, 14472\, United States
CATEGORIES:Public
ATTACH;FMTTYPE=image/png:https://www.20deep.com/wp-content/uploads/2025/01/5-4-20-Deep-Class-Image.png
ORGANIZER;CN="Sip and Script":MAILTO:lisarocsipandscript@gmail.com
END:VEVENT
BEGIN:VEVENT
DTSTART;TZID=America/New_York:20250313T183000
DTEND;TZID=America/New_York:20250313T200000
DTSTAMP:20260424T184859
CREATED:20250120T223753Z
LAST-MODIFIED:20250302T151652Z
UID:10000161-1741890600-1741896000@www.20deep.com
SUMMARY:Sip & Script: Modern Calligraphy Workshop
DESCRIPTION:Discover the art of modern calligraphy at 20 Deep Winery in Mendon\, NY! Whether you’re a DIY bride-to-be\, a stationery enthusiast\, or just looking for a creative night out\, this beginner-friendly workshop introduces you to the basics of pointed dip pen calligraphy. \nOver 1.5 hours\, you’ll learn lettering techniques with hands-on instruction and demonstrations. Your class kit includes everything you need to get started: two nibs\, black ink\, tracing paper\, letter guides\, and a straight pen holder—all yours to take home. Practice your skills and use your new talents to add elegant touches to wedding stationery\, snail mail\, home décor\, and more! \nDetails\n🗓 Date: Thursday March 13\, 2025\n⏰ Time: Arrive early to grab your seat\, class starts promptly at 6:30 PM.\n📍 Location: 20 Deep Winery\, Mendon\, NY \nCome early or enjoy food and drinks throughout the class—available for purchase onsite. Lefties are welcome\, and no prior experience is needed. If you’ve dabbled in calligraphy before\, it’s a great opportunity to refresh your skills and try new tools. \nNote: Children 16 and under are welcome with a ticketed adult. Please be mindful that this is an environment where adults may enjoy a drink. \nReady to start your calligraphy journey? Grab your ticket now and let’s make something beautiful! \n  \nGet Tickets
URL:https://www.20deep.com/event/sip-script-modern-calligraphy-workshop/
LOCATION:20 Deep Winery\, 187 Mendon Ionia Road\, Honeoye Falls\, NY\, 14472\, United States
CATEGORIES:Public
ATTACH;FMTTYPE=image/jpeg:https://www.20deep.com/wp-content/uploads/2025/01/20-Deep-3-13.jpg
ORGANIZER;CN="Sip and Script":MAILTO:lisarocsipandscript@gmail.com
END:VEVENT
END:VCALENDAR