BEGIN:VCALENDAR
VERSION:2.0
PRODID:-//20 Deep Winery - ECPv6.15.14//NONSGML v1.0//EN
CALSCALE:GREGORIAN
METHOD:PUBLISH
X-ORIGINAL-URL:https://www.20deep.com
X-WR-CALDESC:Events for 20 Deep Winery
REFRESH-INTERVAL;VALUE=DURATION:PT1H
X-Robots-Tag:noindex
X-PUBLISHED-TTL:PT1H
BEGIN:VTIMEZONE
TZID:America/New_York
BEGIN:DAYLIGHT
TZOFFSETFROM:-0500
TZOFFSETTO:-0400
TZNAME:EDT
DTSTART:20240310T070000
END:DAYLIGHT
BEGIN:STANDARD
TZOFFSETFROM:-0400
TZOFFSETTO:-0500
TZNAME:EST
DTSTART:20241103T060000
END:STANDARD
BEGIN:DAYLIGHT
TZOFFSETFROM:-0500
TZOFFSETTO:-0400
TZNAME:EDT
DTSTART:20250309T070000
END:DAYLIGHT
BEGIN:STANDARD
TZOFFSETFROM:-0400
TZOFFSETTO:-0500
TZNAME:EST
DTSTART:20251102T060000
END:STANDARD
BEGIN:DAYLIGHT
TZOFFSETFROM:-0500
TZOFFSETTO:-0400
TZNAME:EDT
DTSTART:20260308T070000
END:DAYLIGHT
BEGIN:STANDARD
TZOFFSETFROM:-0400
TZOFFSETTO:-0500
TZNAME:EST
DTSTART:20261101T060000
END:STANDARD
END:VTIMEZONE
BEGIN:VEVENT
DTSTART;TZID=America/New_York:20250814T180000
DTEND;TZID=America/New_York:20250814T203000
DTSTAMP:20260424T212454
CREATED:20250714T215638Z
LAST-MODIFIED:20250728T210028Z
UID:10000287-1755194400-1755203400@www.20deep.com
SUMMARY:Dinner in the Vineyard • 20 Deep Winery × The Miscela Project
DESCRIPTION:Dinner in the Vineyard 20 Deep Winery × The Miscela Project\nAn intimate\, farm-to-table evening in the vines—crafted by 20 Deep Winery and The Miscela Project—Thursday\, August 14\, 2025.  Seats are limited—[get tickets here] to reserve your spot. \nDate: Thursday\, August 14\, 2025\nTime: 6:00 PM welcome pour · 6:30 PM family-style dinner\nSeats: 30 guests only (one long table among the vines)\nTickets: $155++ per person · includes four courses + wine pairings\nReserve: Click “Get Tickets” below—this will sell out quickly \n  \nOur Shared Vision\nAt 20 Deep Winery\, wine is a social bridge—long evenings\, unhurried conversation\, community in every glass. The team behind The Miscela Project believes the same about food: connection happens when we cook\, laugh\, and eat together. On August 14 we’re blending those visions into one night: a vineyard table\, summer ingredients from local farms\, and wines that grew just steps away. \n  \n\n(Menu may shift slightly with what’s freshest that week.) \nWhy You’ll Love It\nLocal first: fresh produce sourced from the Brighton Farmers Market.\nTable among the vines: golden-hour views\, string lights overhead\nHands-on moments: pass platters\, pour for a neighbor\, share stories\nOnly 30 seats: an intimate gathering\, not a crowded tasting \nGet Tickets\nTickets are non-refundable. Event is rain-or-shine—if skies don’t cooperate\, we’ll move to the Winemakers room. \nSOLD OUT! \nGet Tickets\n 
URL:https://www.20deep.com/event/dinner-in-the-vineyard-20-deep-winery-x-the-miscela-project/
LOCATION:20 Deep Winery\, 187 Mendon Ionia Road\, Honeoye Falls\, NY\, 14472\, United States
CATEGORIES:Public
ATTACH;FMTTYPE=image/jpeg:https://www.20deep.com/wp-content/uploads/2025/07/Dinner-in-the-20-Deep-Vineyard-in-Mendon-NY.jpg
ORGANIZER;CN="The Miscela Project":MAILTO:themiscelaproject@gmail.com
END:VEVENT
END:VCALENDAR